Workbook

Sheet Dashboard
A1: STORE REGISTER DASHBOARD
A3: Total Transactions | D3: Total Qty In | G3: Total Qty Out
A4: =COUNTA('Store Register'!$C$5:$C$999) -> 9 | D4: =SUM('Store Register'!$I$5:$I$999) | G4: =SUM('Store Register'!$J$5:$J$999)
A6: Transaction Value | D6: Pending Transactions | G6: Item Master Count
A7: =SUM('Store Register'!$M$5:$M$999) | D7: =COUNTIF('Store Register'!$P$5:$P$999,"Pending") -> 0 | G7: =COUNTA('Item Master'!$A$4:$A$1000) -> 10
A10: Transaction Type Summary | D10: Low Stock Items
A11: Transaction Type | B11: Count | D11: Item Code | E11: Item Name | F11: Opening Qty | G11: Reorder Level
A12: Receipt | B12: =COUNTIF('Store Register'!$D$5:$D$999,A12) -> 3 | D12: ='Item Master'!A4 -> ITM-001 | E12: ='Item Master'!B4 -> A4 Copier Paper | F12: ='Item Master'!E4+SUMIFS('Store Register'!$I$5:$I$999,'Store Register'!$E$5:$E$999,D12)-SUMIFS('Store Register'!$J$5:$J$999,'Store Register'!$E$5:$E$999,D12) -> 30 | G12: ='Item Master'!F4 -> 10
A13: Issue | B13: =COUNTIF('Store Register'!$D$5:$D$999,A13) -> 4 | D13: ='Item Master'!A5 -> ITM-002 | E13: ='Item Master'!B5 -> Ball Pen Blue | F13: ='Item Master'!E5+SUMIFS('Store Register'!$I$5:$I$999,'Store Register'!$E$5:$E$999,D13)-SUMIFS('Store Register'!$J$5:$J$999,'Store Register'!$E$5:$E$999,D13) -> 40 | G13: ='Item Master'!F5 -> 15
A14: Return | B14: =COUNTIF('Store Register'!$D$5:$D$999,A14) -> 1 | D14: ='Item Master'!A6 -> ITM-003 | E14: ='Item Master'!B6 -> USB Keyboard | F14: ='Item Master'!E6+SUMIFS('Store Register'!$I$5:$I$999,'Store Register'!$E$5:$E$999,D14)-SUMIFS('Store Register'!$J$5:$J$999,'Store Register'!$E$5:$E$999,D14) -> 18 | G14: ='Item Master'!F6 -> 5
A15: Transfer In | B15: =COUNTIF('Store Register'!$D$5:$D$999,A15) -> 0 | D15: ='Item Master'!A7 -> ITM-004 | E15: ='Item Master'!B7 -> LED Bulb 12W | F15: ='Item Master'!E7+SUMIFS('Store Register'!$I$5:$I$999,'Store Register'!$E$5:$E$999,D15)-SUMIFS('Store Register'!$J$5:$J$999,'Store Register'!$E$5:$E$999,D15) -> 24 | G15: ='Item Master'!F7 -> 10
A16: Transfer Out | B16: =COUNTIF('Store Register'!$D$5:$D$999,A16) -> 1 | D16: ='Item Master'!A8 -> ITM-005 | E16: ='Item Master'!B8 -> Floor Cleaner 5L | F16: ='Item Master'!E8+SUMIFS('Store Register'!$I$5:$I$999,'Store Register'!$E$5:$E$999,D16)-SUMIFS('Store Register'!$J$5:$J$999,'Store Register'!$E$5:$E$999,D16) -> 35 | G16: ='Item Master'!F8 -> 8
A17: Adjustment | B17: =COUNTIF('Store Register'!$D$5:$D$999,A17) -> 0 | D17: ='Item Master'!A9 -> ITM-006 | E17: ='Item Master'!B9 -> Safety Gloves | F17: ='Item Master'!E9+SUMIFS('Store Register'!$I$5:$I$999,'Store Register'!$E$5:$E$999,D17)-SUMIFS('Store Register'!$J$5:$J$999,'Store Register'!$E$5:$E$999,D17) -> 40 | G17: ='Item Master'!F9 -> 20
D18: ='Item Master'!A10 -> ITM-007 | E18: ='Item Master'!B10 -> File Folder | F18: ='Item Master'!E10+SUMIFS('Store Register'!$I$5:$I$999,'Store Register'!$E$5:$E$999,D18)-SUMIFS('Store Register'!$J$5:$J$999,'Store Register'!$E$5:$E$999,D18) -> 20 | G18: ='Item Master'!F10 -> 8
D19: ='Item Master'!A11 -> ITM-008 | E19: ='Item Master'!B11 -> Network Cable CAT6 | F19: ='Item Master'!E11+SUMIFS('Store Register'!$I$5:$I$999,'Store Register'!$E$5:$E$999,D19)-SUMIFS('Store Register'!$J$5:$J$999,'Store Register'!$E$5:$E$999,D19) -> 80 | G19: ='Item Master'!F11 -> 30
D20: ='Item Master'!A12 -> ITM-009 | E20: ='Item Master'!B12 -> Screwdriver Set | F20: ='Item Master'!E12+SUMIFS('Store Register'!$I$5:$I$999,'Store Register'!$E$5:$E$999,D20)-SUMIFS('Store Register'!$J$5:$J$999,'Store Register'!$E$5:$E$999,D20) -> 8 | G20: ='Item Master'!F12 -> 3
D21: ='Item Master'!A13 -> ITM-010 | E21: ='Item Master'!B13 -> Printer Toner | F21: ='Item Master'!E13+SUMIFS('Store Register'!$I$5:$I$999,'Store Register'!$E$5:$E$999,D21)-SUMIFS('Store Register'!$J$5:$J$999,'Store Register'!$E$5:$E$999,D21) -> 6 | G21: ='Item Master'!F13 -> 2

Sheet Store Register
A1: STORE REGISTER / STOCK TRANSACTION REGISTER
A2: Record all receipts, issues, returns, transfers and adjustments in one editable transaction ledger.
A4: Sr. No. | B4: Date | C4: Transaction ID | D4: Transaction Type | E4: Item Code | F4: Item Name | G4: Category | H4: Unit | I4: Qty In | J4: Qty Out | K4: Running Balance | L4: Unit Cost | M4: Transaction Value | N4: Supplier / Department | O4: Location | P4: Status | Q4: Remarks
A5: =ROW()-4 -> 1 | B5: 46266 | C5: TRN-0001 | D5: Receipt | E5: ITM-001 | F5: =IFERROR(_xludf.XLOOKUP(E5,'Item Master'!$A$4:$A$1000,'Item Master'!$B$4:$B$1000,""),"") | G5: =IFERROR(_xludf.XLOOKUP(E5,'Item Master'!$A$4:$A$1000,'Item Master'!$C$4:$C$1000,""),"") | H5: =IFERROR(_xludf.XLOOKUP(E5,'Item Master'!$A$4:$A$1000,'Item Master'!$D$4:$D$1000,""),"") | I5: 9 | J5: 0 | K5: =IF(E5="","",IFERROR(_xludf.XLOOKUP(E5,'Item Master'!$A$4:$A$1000,'Item Master'!$E$4:$E$1000,0),0)+SUMIFS($I$5:I5,$E$5:E5,E5)-SUMIFS($J$5:J5,$E$5:E5,E5)) -> 9 | L5: =IFERROR(_xludf.XLOOKUP(E5,'Item Master'!$A$4:$A$1000,'Item Master'!$G$4:$G$1000,0),0) -> 0 | M5: =($I5+$J5)*$L5 -> 0 | N5: ABC Office Supplies | O5: Main Store | P5: Completed | Q5: Monthly paper receipt
A6: =ROW()-4 -> 2 | B6: 46267 | C6: TRN-0002 | D6: Issue | E6: ITM-001 | F6: =IFERROR(_xludf.XLOOKUP(E6,'Item Master'!$A$4:$A$1000,'Item Master'!$B$4:$B$1000,""),"") | G6: =IFERROR(_xludf.XLOOKUP(E6,'Item Master'!$A$4:$A$1000,'Item Master'!$C$4:$C$1000,""),"") | H6: =IFERROR(_xludf.XLOOKUP(E6,'Item Master'!$A$4:$A$1000,'Item Master'!$D$4:$D$1000,""),"") | I6: 0 | J6: 4 | K6: =IF(E6="","",IFERROR(_xludf.XLOOKUP(E6,'Item Master'!$A$4:$A$1000,'Item Master'!$E$4:$E$1000,0),0)+SUMIFS($I$5:I6,$E$5:E6,E6)-SUMIFS($J$5:J6,$E$5:E6,E6)) -> 5 | L6: =IFERROR(_xludf.XLOOKUP(E6,'Item Master'!$A$4:$A$1000,'Item Master'!$G$4:$G$1000,0),0) -> 0 | M6: =($I6+$J6)*$L6 -> 0 | N6: Administration | O6: Main Store | P6: Completed | Q6: Issued for office use
A7: =ROW()-4 -> 3 | B7: 46268 | C7: TRN-0003 | D7: Receipt | E7: ITM-003 | F7: =IFERROR(_xludf.XLOOKUP(E7,'Item Master'!$A$4:$A$1000,'Item Master'!$B$4:$B$1000,""),"") | G7: =IFERROR(_xludf.XLOOKUP(E7,'Item Master'!$A$4:$A$1000,'Item Master'!$C$4:$C$1000,""),"") | H7: =IFERROR(_xludf.XLOOKUP(E7,'Item Master'!$A$4:$A$1000,'Item Master'!$D$4:$D$1000,""),"") | I7: 5 | J7: 0 | K7: =IF(E7="","",IFERROR(_xludf.XLOOKUP(E7,'Item Master'!$A$4:$A$1000,'Item Master'!$E$4:$E$1000,0),0)+SUMIFS($I$5:I7,$E$5:E7,E7)-SUMIFS($J$5:J7,$E$5:E7,E7)) -> 5 | L7: =IFERROR(_xludf.XLOOKUP(E7,'Item Master'!$A$4:$A$1000,'Item Master'!$G$4:$G$1000,0),0) -> 0 | M7: =($I7+$J7)*$L7 -> 0 | N7: Tech World | O7: IT Store | P7: Completed | Q7: Keyboard stock received
A8: =ROW()-4 -> 4 | B8: 46269 | C8: TRN-0004 | D8: Issue | E8: ITM-003 | F8: =IFERROR(_xludf.XLOOKUP(E8,'Item Master'!$A$4:$A$1000,'Item Master'!$B$4:$B$1000,""),"") | G8: =IFERROR(_xludf.XLOOKUP(E8,'Item Master'!$A$4:$A$1000,'Item Master'!$C$4:$C$1000,""),"") | H8: =IFERROR(_xludf.XLOOKUP(E8,'Item Master'!$A$4:$A$1000,'Item Master'!$D$4:$D$1000,""),"") | I8: 3 | J8: 2 | K8: =IF(E8="","",IFERROR(_xludf.XLOOKUP(E8,'Item Master'!$A$4:$A$1000,'Item Master'!$E$4:$E$1000,0),0)+SUMIFS($I$5:I8,$E$5:E8,E8)-SUMIFS($J$5:J8,$E$5:E8,E8)) -> 6 | L8: =IFERROR(_xludf.XLOOKUP(E8,'Item Master'!$A$4:$A$1000,'Item Master'!$G$4:$G$1000,0),0) -> 0 | M8: =($I8+$J8)*$L8 -> 0 | N8: IT | O8: IT Store | P8: Completed | Q8: Issued to IT support
A9: =ROW()-4 -> 5 | B9: 46270 | C9: TRN-0005 | D9: Issue | E9: ITM-004 | F9: =IFERROR(_xludf.XLOOKUP(E9,'Item Master'!$A$4:$A$1000,'Item Master'!$B$4:$B$1000,""),"") | G9: =IFERROR(_xludf.XLOOKUP(E9,'Item Master'!$A$4:$A$1000,'Item Master'!$C$4:$C$1000,""),"") | H9: =IFERROR(_xludf.XLOOKUP(E9,'Item Master'!$A$4:$A$1000,'Item Master'!$D$4:$D$1000,""),"") | I9: 0 | J9: 6 | K9: =IF(E9="","",IFERROR(_xludf.XLOOKUP(E9,'Item Master'!$A$4:$A$1000,'Item Master'!$E$4:$E$1000,0),0)+SUMIFS($I$5:I9,$E$5:E9,E9)-SUMIFS($J$5:J9,$E$5:E9,E9)) -> -6 | L9: =IFERROR(_xludf.XLOOKUP(E9,'Item Master'!$A$4:$A$1000,'Item Master'!$G$4:$G$1000,0),0) -> 0 | M9: =($I9+$J9)*$L9 -> 0 | N9: Maintenance | O9: Maintenance Store | P9: Completed | Q9: Maintenance requirement
A10: =ROW()-4 -> 6 | B10: 46271 | C10: TRN-0006 | D10: Receipt | E10: ITM-005 | F10: =IFERROR(_xludf.XLOOKUP(E10,'Item Master'!$A$4:$A$1000,'Item Master'!$B$4:$B$1000,""),"") | G10: =IFERROR(_xludf.XLOOKUP(E10,'Item Master'!$A$4:$A$1000,'Item Master'!$C$4:$C$1000,""),"") | H10: =IFERROR(_xludf.XLOOKUP(E10,'Item Master'!$A$4:$A$1000,'Item Master'!$D$4:$D$1000,""),"") | I10: 15 | J10: 0 | K10: =IF(E10="","",IFERROR(_xludf.XLOOKUP(E10,'Item Master'!$A$4:$A$1000,'Item Master'!$E$4:$E$1000,0),0)+SUMIFS($I$5:I10,$E$5:E10,E10)-SUMIFS($J$5:J10,$E$5:E10,E10)) -> 15 | L10: =IFERROR(_xludf.XLOOKUP(E10,'Item Master'!$A$4:$A$1000,'Item Master'!$G$4:$G$1000,0),0) -> 0 | M10: =($I10+$J10)*$L10 -> 0 | N10: CleanPro Traders | O10: Main Store | P10: Completed | Q10: Cleaning stock replenishment
A11: =ROW()-4 -> 7 | B11: 46272 | C11: TRN-0007 | D11: Issue | E11: ITM-006 | F11: =IFERROR(_xludf.XLOOKUP(E11,'Item Master'!$A$4:$A$1000,'Item Master'!$B$4:$B$1000,""),"") | G11: =IFERROR(_xludf.XLOOKUP(E11,'Item Master'!$A$4:$A$1000,'Item Master'!$C$4:$C$1000,""),"") | H11: =IFERROR(_xludf.XLOOKUP(E11,'Item Master'!$A$4:$A$1000,'Item Master'!$D$4:$D$1000,""),"") | I11: 0 | J11: 10 | K11: =IF(E11="","",IFERROR(_xludf.XLOOKUP(E11,'Item Master'!$A$4:$A$1000,'Item Master'!$E$4:$E$1000,0),0)+SUMIFS($I$5:I11,$E$5:E11,E11)-SUMIFS($J$5:J11,$E$5:E11,E11)) -> -10 | L11: =IFERROR(_xludf.XLOOKUP(E11,'Item Master'!$A$4:$A$1000,'Item Master'!$G$4:$G$1000,0),0) -> 0 | M11: =($I11+$J11)*$L11 -> 0 | N11: Operations | O11: Maintenance Store | P11: Completed | Q11: Safety gloves issued
A12: =ROW()-4 -> 8 | B12: 46273 | C12: TRN-0008 | D12: Return | E12: ITM-007 | F12: =IFERROR(_xludf.XLOOKUP(E12,'Item Master'!$A$4:$A$1000,'Item Master'!$B$4:$B$1000,""),"") | G12: =IFERROR(_xludf.XLOOKUP(E12,'Item Master'!$A$4:$A$1000,'Item Master'!$C$4:$C$1000,""),"") | H12: =IFERROR(_xludf.XLOOKUP(E12,'Item Master'!$A$4:$A$1000,'Item Master'!$D$4:$D$1000,""),"") | I12: 2 | J12: 0 | K12: =IF(E12="","",IFERROR(_xludf.XLOOKUP(E12,'Item Master'!$A$4:$A$1000,'Item Master'!$E$4:$E$1000,0),0)+SUMIFS($I$5:I12,$E$5:E12,E12)-SUMIFS($J$5:J12,$E$5:E12,E12)) -> 2 | L12: =IFERROR(_xludf.XLOOKUP(E12,'Item Master'!$A$4:$A$1000,'Item Master'!$G$4:$G$1000,0),0) -> 0 | M12: =($I12+$J12)*$L12 -> 0 | N12: Administration | O12: Main Store | P12: Completed | Q12: Unused folders returned
A13: =ROW()-4 -> 9 | B13: 46274 | C13: TRN-0009 | D13: Transfer Out | E13: ITM-008 | F13: =IFERROR(_xludf.XLOOKUP(E13,'Item Master'!$A$4:$A$1000,'Item Master'!$B$4:$B$1000,""),"") | G13: =IFERROR(_xludf.XLOOKUP(E13,'Item Master'!$A$4:$A$1000,'Item Master'!$C$4:$C$1000,""),"") | H13: =IFERROR(_xludf.XLOOKUP(E13,'Item Master'!$A$4:$A$1000,'Item Master'!$D$4:$D$1000,""),"") | I13: 0 | J13: 20 | K13: =IF(E13="","",IFERROR(_xludf.XLOOKUP(E13,'Item Master'!$A$4:$A$1000,'Item Master'!$E$4:$E$1000,0),0)+SUMIFS($I$5:I13,$E$5:E13,E13)-SUMIFS($J$5:J13,$E$5:E13,E13)) -> -20 | L13: =IFERROR(_xludf.XLOOKUP(E13,'Item Master'!$A$4:$A$1000,'Item Master'!$G$4:$G$1000,0),0) -> 0 | M13: =($I13+$J13)*$L13 -> 0 | N13: IT | O13: IT Store | P13: Completed | Q13: Transferred to branch
A15: TOTALS / SUMMARY | I15: =SUM(I5:I999) | J15: =SUM(J5:J999) | M15: =SUM(M5:M999)

Sheet Item Master
A1: STORE ITEM MASTER
A3: Item Code | B3: Item Name | C3: Category | D3: Unit | E3: Opening Qty | F3: Reorder Level | G3: Unit Cost | H3: Opening Value | I3: Supplier | J3: Location
A4: ITM-001 | B4: A4 Copier Paper | C4: Stationery | D4: Box | E4: 25 | F4: 10 | G4: 420 | H4: =E4*G4 -> 10500 | I4: ABC Office Supplies | J4: Main Store
A5: ITM-002 | B5: Ball Pen Blue | C5: Stationery | D5: Box | E5: 40 | F5: 15 | G5: 180 | H5: =E5*G5 -> 7200 | I5: ABC Office Supplies | J5: Main Store
A6: ITM-003 | B6: USB Keyboard | C6: IT Equipment | D6: Nos | E6: 12 | F6: 5 | G6: 650 | H6: =E6*G6 -> 7800 | I6: Tech World | J6: IT Store
A7: ITM-004 | B7: LED Bulb 12W | C7: Electrical | D7: Nos | E7: 30 | F7: 10 | G7: 120 | H7: =E7*G7 -> 3600 | I7: Metro Electricals | J7: Maintenance Store
A8: ITM-005 | B8: Floor Cleaner 5L | C8: Cleaning | D8: Litre | E8: 20 | F8: 8 | G8: 210 | H8: =E8*G8 -> 4200 | I8: CleanPro Traders | J8: Main Store
A9: ITM-006 | B9: Safety Gloves | C9: Safety | D9: Pair | E9: 50 | F9: 20 | G9: 75 | H9: =E9*G9 -> 3750 | I9: SafeWork Solutions | J9: Maintenance Store
A10: ITM-007 | B10: File Folder | C10: Office Supplies | D10: Pack | E10: 18 | F10: 8 | G10: 250 | H10: =E10*G10 -> 4500 | I10: ABC Office Supplies | J10: Main Store
A11: ITM-008 | B11: Network Cable CAT6 | C11: IT Equipment | D11: Meter | E11: 100 | F11: 30 | G11: 32 | H11: =E11*G11 -> 3200 | I11: Tech World | J11: IT Store
A12: ITM-009 | B12: Screwdriver Set | C12: Tools | D12: Set | E12: 8 | F12: 3 | G12: 550 | H12: =E12*G12 -> 4400 | I12: Metro Electricals | J12: Maintenance Store
A13: ITM-010 | B13: Printer Toner | C13: IT Equipment | D13: Nos | E13: 6 | F13: 2 | G13: 2800 | H13: =E13*G13 -> 16800 | I13: Tech World | J13: IT Store

Sheet Lists
A1: Dropdown Lists
A3: Transaction Type | B3: Category | C3: Unit | D3: Status | E3: Location | F3: Supplier | G3: Department
A4: Receipt | B4: Stationery | C4: Nos | D4: Open | E4: Main Store | F4: ABC Office Supplies | G4: Administration
A5: Issue | B5: IT Equipment | C5: Box | D5: Completed | E5: IT Store | F5: Tech World | G5: IT
A6: Return | B6: Electrical | C6: Pack | D6: Pending | E6: Maintenance Store | F6: CleanPro Traders | G6: Maintenance
A7: Transfer In | B7: Cleaning | C7: Kg | D7: Cancelled | E7: Branch Store | F7: Metro Electricals | G7: HR
A8: Transfer Out | B8: Office Supplies | C8: Litre | F8: SafeWork Solutions | G8: Accounts
A9: Adjustment | B9: Safety | C9: Set | G9: Operations
B10: Tools | C10: Meter

Sheet Sheet1
A1: Sr. No.
A2: Date
A3: Transaction ID
A4: Transaction Type
A5: Item Code
A6: Item Name
A7: Category
A8: Unit
A9: Qty In
A10: Qty Out
A11: Running Balance
A12: Unit Cost
... A17: Remarks
