Workbook

Sheet Stock Tracking
A1: STOCK TRACKING SHEET
A2: Inventory movement and stock-level monitoring
A4: S.No. | B4: Date | C4: Item Code | D4: Item Name | E4: Category | F4: Opening Stock | G4: Stock In | H4: Stock Out | I4: Closing Stock | J4: Reorder Level | K4: Stock Status | L4: Remarks
A5: =IF(B5="","",ROW()-4) -> 1 | B5: 46266 | C5: STK-001 | D5: A4 Copier Paper | E5: Other | F5: 110 | G5: 50 | H5: 35 | I5: =F5+G5-H5 -> 125 | J5: 30 | K5: =IF(I5<=J5,"Reorder",IF(I5<=J5*1.5,"Low Stock","In Stock")) -> In Stock
A6: =IF(B6="","",ROW()-4) -> 2 | B6: 46267 | C6: STK-002 | D6: Ball Pen Blue | E6: Stationery | F6: 240 | G6: 100 | H6: 80 | I6: =F6+G6-H6 -> 260 | J6: 75 | K6: =IF(I6<=J6,"Reorder",IF(I6<=J6*1.5,"Low Stock","In Stock")) -> In Stock
A7: =IF(B7="","",ROW()-4) -> 3 | B7: 46268 | C7: STK-003 | D7: Printer Toner 12A | E7: IT Supplies | F7: 25 | G7: 10 | H7: 18 | I7: =F7+G7-H7 -> 17 | J7: 17 | K7: =IF(I7<=J7,"Reorder",IF(I7<=J7*1.5,"Low Stock","In Stock")) -> Reorder
A8: =IF(B8="","",ROW()-4) -> 4 | B8: 46269 | C8: STK-004 | D8: USB Keyboard | E8: IT Accessories | F8: 40 | G8: 15 | H8: 12 | I8: =F8+G8-H8 -> 43 | J8: 28 | K8: =IF(I8<=J8,"Reorder",IF(I8<=J8*1.5,"Low Stock","In Stock")) -> In Stock
A9: =IF(B9="","",ROW()-4) -> 5 | B9: 46270 | C9: STK-005 | D9: Wireless Mouse | E9: IT Accessories | F9: 40 | G9: 20 | H9: 16 | I9: =F9+G9-H9 -> 44 | J9: 24 | K9: =IF(I9<=J9,"Reorder",IF(I9<=J9*1.5,"Low Stock","In Stock")) -> In Stock
A10: =IF(B10="","",ROW()-4) -> 6 | B10: 46271 | C10: STK-006 | D10: File Folder | E10: Stationery | F10: 180 | G10: 60 | H10: 90 | I10: =F10+G10-H10 -> 150 | J10: 150 | K10: =IF(I10<=J10,"Reorder",IF(I10<=J10*1.5,"Low Stock","In Stock")) -> Reorder
A11: =IF(B11="","",ROW()-4) -> 7 | B11: 46272 | C11: STK-007 | D11: Stapler Medium | E11: Stationery | F11: 40 | G11: 10 | H11: 8 | I11: =F11+G11-H11 -> 42 | J11: 32 | K11: =IF(I11<=J11,"Reorder",IF(I11<=J11*1.5,"Low Stock","In Stock")) -> Low Stock
A12: =IF(B12="","",ROW()-4) -> 8 | B12: 46273 | C12: STK-008 | D12: HDMI Cable | E12: Electronics | F12: 20 | G12: 8 | H12: 15 | I12: =F12+G12-H12 -> 13 | J12: 15 | K12: =IF(I12<=J12,"Reorder",IF(I12<=J12*1.5,"Low Stock","In Stock")) -> Reorder
A13: =IF(B13="","",ROW()-4) -> 9 | B13: 46274 | C13: STK-009 | D13: Extension Board | E13: Electrical | F13: 28 | G13: 12 | H13: 20 | I13: =F13+G13-H13 -> 20 | J13: 20 | K13: =IF(I13<=J13,"Reorder",IF(I13<=J13*1.5,"Low Stock","In Stock")) -> Reorder
A14: =IF(B14="","",ROW()-4) -> 10 | B14: 46275 | C14: STK-010 | D14: Packing Tape | E14: Packaging | F14: 90 | G14: 40 | H14: 55 | I14: =F14+G14-H14 -> 75 | J14: 75 | K14: =IF(I14<=J14,"Reorder",IF(I14<=J14*1.5,"Low Stock","In Stock")) -> Reorder
A15: =IF(B15="","",ROW()-4) | I15: =IF(COUNTA(F15:H15)=0,"",F15+G15-H15) | K15: =IF(I15="","",IF(I15<=J15,"Reorder",IF(I15<=J15*1.5,"Low Stock","In Stock")))
A16: =IF(B16="","",ROW()-4) | I16: =IF(COUNTA(F16:H16)=0,"",F16+G16-H16) | K16: =IF(I16="","",IF(I16<=J16,"Reorder",IF(I16<=J16*1.5,"Low Stock","In Stock")))
A17: =IF(B17="","",ROW()-4) | I17: =IF(COUNTA(F17:H17)=0,"",F17+G17-H17) | K17: =IF(I17="","",IF(I17<=J17,"Reorder",IF(I17<=J17*1.5,"Low Stock","In Stock")))
A18: =IF(B18="","",ROW()-4) | I18: =IF(COUNTA(F18:H18)=0,"",F18+G18-H18) | K18: =IF(I18="","",IF(I18<=J18,"Reorder",IF(I18<=J18*1.5,"Low Stock","In Stock")))
A19: =IF(B19="","",ROW()-4) | I19: =IF(COUNTA(F19:H19)=0,"",F19+G19-H19) | K19: =IF(I19="","",IF(I19<=J19,"Reorder",IF(I19<=J19*1.5,"Low Stock","In Stock")))
A20: =IF(B20="","",ROW()-4) | I20: =IF(COUNTA(F20:H20)=0,"",F20+G20-H20) | K20: =IF(I20="","",IF(I20<=J20,"Reorder",IF(I20<=J20*1.5,"Low Stock","In Stock")))
A21: =IF(B21="","",ROW()-4) | I21: =IF(COUNTA(F21:H21)=0,"",F21+G21-H21) | K21: =IF(I21="","",IF(I21<=J21,"Reorder",IF(I21<=J21*1.5,"Low Stock","In Stock")))
A22: =IF(B22="","",ROW()-4) | I22: =IF(COUNTA(F22:H22)=0,"",F22+G22-H22) | K22: =IF(I22="","",IF(I22<=J22,"Reorder",IF(I22<=J22*1.5,"Low Stock","In Stock")))
A23: =IF(B23="","",ROW()-4) | I23: =IF(COUNTA(F23:H23)=0,"",F23+G23-H23) | K23: =IF(I23="","",IF(I23<=J23,"Reorder",IF(I23<=J23*1.5,"Low Stock","In Stock")))
A24: =IF(B24="","",ROW()-4) | I24: =IF(COUNTA(F24:H24)=0,"",F24+G24-H24) | K24: =IF(I24="","",IF(I24<=J24,"Reorder",IF(I24<=J24*1.5,"Low Stock","In Stock")))
A25: =IF(B25="","",ROW()-4) | I25: =IF(COUNTA(F25:H25)=0,"",F25+G25-H25) | K25: =IF(I25="","",IF(I25<=J25,"Reorder",IF(I25<=J25*1.5,"Low Stock","In Stock")))
A26: =IF(B26="","",ROW()-4) | I26: =IF(COUNTA(F26:H26)=0,"",F26+G26-H26) | K26: =IF(I26="","",IF(I26<=J26,"Reorder",IF(I26<=J26*1.5,"Low Stock","In Stock")))
... A54: =IF(B54="","",ROW()-4) | I54: =IF(COUNTA(F54:H54)=0,"",F54+G54-H54) | K54: =IF(I54="","",IF(I54<=J54,"Reorder",IF(I54<=J54*1.5,"Low Stock","In Stock")))
A57: QUICK SUMMARY
A58: Total Stock In | B58: =SUM(G5:G54) -> 325
A59: Total Stock Out | B59: =SUM(H5:H54) -> 349
A60: Current Stock | B60: =SUM(I5:I54) -> 789
A61: Items to Reorder | B61: =COUNTIF(K5:K54,"Reorder") -> 5

Sheet Dashboard
A1: STOCK TRACKING DASHBOARD
A3: Total Stock In | B3: =SUM('Stock Tracking'!G5:G54) -> 325 | D3: Stock Status | E3: Count
A4: Total Stock Out | B4: =SUM('Stock Tracking'!H5:H54) -> 349 | D4: In Stock | E4: =COUNTIF('Stock Tracking'!K5:K54,D4) -> 4
A5: Current Stock | B5: =SUM('Stock Tracking'!I5:I54) -> 789 | D5: Low Stock | E5: =COUNTIF('Stock Tracking'!K5:K54,D5) -> 1
A6: Reorder Items | B6: =COUNTIF('Stock Tracking'!K5:K54,"Reorder") -> 5 | D6: Reorder | E6: =COUNTIF('Stock Tracking'!K5:K54,D6) -> 5
A7: Low Stock Items | B7: =COUNTIF('Stock Tracking'!K5:K54,"Low Stock") -> 1
A10: Category | B10: Current Stock
A11: Stationery | B11: =SUMIF('Stock Tracking'!E5:E54,A11,'Stock Tracking'!I5:I54) -> 452
A12: IT Supplies | B12: =SUMIF('Stock Tracking'!E5:E54,A12,'Stock Tracking'!I5:I54) -> 17
A13: IT Accessories | B13: =SUMIF('Stock Tracking'!E5:E54,A13,'Stock Tracking'!I5:I54) -> 87
A14: Electronics | B14: =SUMIF('Stock Tracking'!E5:E54,A14,'Stock Tracking'!I5:I54) -> 13
A15: Electrical | B15: =SUMIF('Stock Tracking'!E5:E54,A15,'Stock Tracking'!I5:I54) -> 20
A16: Packaging | B16: =SUMIF('Stock Tracking'!E5:E54,A16,'Stock Tracking'!I5:I54) -> 75
A17: Office Equipment | B17: =SUMIF('Stock Tracking'!E5:E54,A17,'Stock Tracking'!I5:I54) -> 0
A18: Other | B18: =SUMIF('Stock Tracking'!E5:E54,A18,'Stock Tracking'!I5:I54) -> 125

Sheet Sheet1
A1: S.No.
A2: Date
A3: Item Code
A4: Item Name
A5: Category
A6: Opening Stock
A7: Stock In
A8: Stock Out
A9: Closing Stock
A10: Reorder Level
A11: Stock Status
A12: Remarks
... A16: Table Summery
