Workbook

Sheet Sign In Register
A1: SIGN IN REGISTER
A2: Visitor / Employee Sign-In and Sign-Out Log
A4: S.No. | B4: Date | C4: Name | D4: Company / Organization | E4: Purpose | F4: Host / Department | G4: Sign In Time | H4: Sign Out Time | I4: Status | J4: Remarks
A5: =IF(C5="","",ROW()-4) -> 1 | B5: 46266 | C5: Sumi Sharma | D5: ABC Solutions | E5: Meeting | F5: Management | G5: 0.38541667 | H5: 0.42013889 | I5: Signed Out | J5: Vendor discussion
A6: =IF(C6="","",ROW()-4) -> 2 | B6: 46266 | C6: Pramod Kumar | D6: Bright Services | E6: Interview | F6: HR | G6: 0.41666667 | H6: 0.47222222 | I6: Signed Out | J6: Candidate interview
A7: =IF(C7="","",ROW()-4) -> 3 | B7: 46267 | C7: Rajesh Gupta | D7: Metro Logistics | E7: Delivery | F7: Administration | G7: 0.44097222 | H7: 0.45486111 | I7: Signed Out | J7: Document delivery
A8: =IF(C8="","",ROW()-4) -> 4 | B8: 46268 | C8: Pooja Singh | D8: Internal | E8: Training | F8: IT | G8: 0.37847222 | H8: 0.5 | I8: Signed Out | J8: System training
A9: =IF(C9="","",ROW()-4) -> 5 | B9: 46269 | C9: Vikas Jain | D9: Jain Traders | E9: Meeting | F9: Accounts | G9: 0.46527778 | H9: 0.50347222 | I9: Signed Out | J9: Payment discussion
A10: =IF(C10="","",ROW()-4) -> 6 | B10: 46270 | C10: Rohit Meena | D10: Internal | E10: Appointment | F10: HR | G10: 0.58333333 | H10: 0.61111111 | I10: Signed Out | J10: HR appointment
A11: =IF(C11="","",ROW()-4) -> 7 | B11: 46272 | C11: Kavita Mahor | D11: Tech World | E11: Meeting | F11: IT | G11: 0.40625 | I11: Signed In | J11: Currently on premises
A12: =IF(C12="","",ROW()-4) -> 8 | B12: 46273 | C12: Suresh Yadav | D12: Fast Courier | E12: Delivery | F12: Administration | G12: 0.55208333 | H12: 0.5625 | I12: Signed Out | J12: Courier delivery
A13: =IF(C13="","",ROW()-4) -> 9 | B13: 46274 | C13: Anjali Mehta | D13: Internal | E13: Meeting | F13: Sales | G13: 0.62847222 | H13: 0.67361111 | I13: Signed Out | J13: Sales review
A14: =IF(C14="","",ROW()-4) -> 10 | B14: 46275 | C14: Govind Kumar | D14: Future Systems | E14: Other | F14: Management | G14: 0.68055556 | H14: 0.71180556 | I14: Signed Out | J14: General enquiry
A15: =IF(C15="","",ROW()-4)
A16: =IF(C16="","",ROW()-4)
A17: =IF(C17="","",ROW()-4)
A18: =IF(C18="","",ROW()-4)
A19: =IF(C19="","",ROW()-4)
A20: =IF(C20="","",ROW()-4)
A21: =IF(C21="","",ROW()-4)
A22: =IF(C22="","",ROW()-4)
A23: =IF(C23="","",ROW()-4)
A24: =IF(C24="","",ROW()-4)
A25: =IF(C25="","",ROW()-4)
A26: =IF(C26="","",ROW()-4)
... A54: =IF(C54="","",ROW()-4)

Sheet Dashboard
A1: SIGN IN REGISTER DASHBOARD
A3: Total Records | B3: =COUNTA('Sign In Register'!C5:C54) -> 10 | D3: Status | E3: Count
A4: Currently Signed In | B4: =COUNTIF('Sign In Register'!I5:I54,"Signed In") -> 1 | D4: Signed In | E4: =COUNTIF('Sign In Register'!I5:I54,D4) -> 1
A5: Signed Out | B5: =COUNTIF('Sign In Register'!I5:I54,"Signed Out") -> 9 | D5: Signed Out | E5: =COUNTIF('Sign In Register'!I5:I54,D5) -> 9
A6: Expected | B6: =COUNTIF('Sign In Register'!I5:I54,"Expected") -> 0 | D6: Expected | E6: =COUNTIF('Sign In Register'!I5:I54,D6) -> 0
A7: Cancelled | B7: =COUNTIF('Sign In Register'!I5:I54,"Cancelled") -> 0 | D7: Cancelled | E7: =COUNTIF('Sign In Register'!I5:I54,D7) -> 0

Sheet Lists
A1: Status Options | B1: Visit Purpose | C1: Department / Host
A2: Signed In | B2: Meeting | C2: Administration
A3: Signed Out | B3: Interview | C3: Accounts
A4: Expected | B4: Delivery | C4: HR
A5: Cancelled | B5: Appointment | C5: Sales
B6: Training | C6: IT
B7: Other | C7: Management
