Workbook

Sheet Shift Schedule
A1: SHIFT SCHEDULE
A2: Employee shift planning and attendance status tracker
A4: S.No. | B4: Date | C4: Employee ID | D4: Employee Name | E4: Department | F4: Shift | G4: Shift Code | H4: Start Time | I4: End Time | J4: Status | K4: Remarks
A5: =IF(B5="","",ROW()-4) -> 1 | B5: 46288 | C5: EMP001 | D5: Amit Kumar | E5: Production | F5: Morning | G5: =IF(F5="","",IF(F5="Morning","M",IF(F5="General","G",IF(F5="Evening","E","N")))) -> M | H5: 0.25 | I5: 0.58333333 | J5: Scheduled | K5: Line A
A6: =IF(B6="","",ROW()-4) -> 2 | B6: 46289 | C6: EMP002 | D6: Anjali Verma | E6: Sales | F6: General | G6: =IF(F6="","",IF(F6="Morning","M",IF(F6="General","G",IF(F6="Evening","E","N")))) -> G | H6: 0.375 | I6: 0.70833333 | J6: Scheduled | K6: Counter duty
A7: =IF(B7="","",ROW()-4) -> 3 | B7: 46290 | C7: EMP003 | D7: Rahul Singh | E7: Support | F7: Evening | G7: =IF(F7="","",IF(F7="Morning","M",IF(F7="General","G",IF(F7="Evening","E","N")))) -> E | H7: 0.58333333 | I7: 0.91666667 | J7: Completed | K7: Help desk
A8: =IF(B8="","",ROW()-4) -> 4 | B8: 46291 | C8: EMP004 | D8: Priya Jain | E8: Administration | F8: General | G8: =IF(F8="","",IF(F8="Morning","M",IF(F8="General","G",IF(F8="Evening","E","N")))) -> G | H8: 0.39583333 | I8: 0.72916667 | J8: Scheduled | K8: Front office
A9: =IF(B9="","",ROW()-4) -> 5 | B9: 46292 | C9: EMP005 | D9: Vikram Patel | E9: Security | F9: Night | G9: =IF(F9="","",IF(F9="Morning","M",IF(F9="General","G",IF(F9="Evening","E","N")))) -> N | H9: 0.91666667 | I9: 0.25 | J9: Scheduled | K9: Main gate
A10: =IF(B10="","",ROW()-4) -> 6 | B10: 46293 | C10: EMP006 | D10: Sanjay Yadav | E10: Production | F10: Morning | G10: =IF(F10="","",IF(F10="Morning","M",IF(F10="General","G",IF(F10="Evening","E","N")))) -> M | H10: 0.25 | I10: 0.58333333 | J10: Completed | K10: Line B
A11: =IF(B11="","",ROW()-4) -> 7 | B11: 46294 | C11: EMP007 | D11: Kavita Joshi | E11: Sales | F11: Evening | G11: =IF(F11="","",IF(F11="Morning","M",IF(F11="General","G",IF(F11="Evening","E","N")))) -> E | H11: 0.58333333 | I11: 0.91666667 | J11: Leave | K11: Approved leave
A12: =IF(B12="","",ROW()-4) -> 8 | B12: 46295 | C12: EMP008 | D12: Roni Gupta | E12: Support | F12: Night | G12: =IF(F12="","",IF(F12="Morning","M",IF(F12="General","G",IF(F12="Evening","E","N")))) -> N | H12: 0.91666667 | I12: 0.25 | J12: Scheduled | K12: Technical support
A13: =IF(B13="","",ROW()-4) -> 9 | B13: 46296 | C13: EMP009 | D13: Anjali Mehta | E13: Administration | F13: General | G13: =IF(F13="","",IF(F13="Morning","M",IF(F13="General","G",IF(F13="Evening","E","N")))) -> G | H13: 0.375 | I13: 0.70833333 | J13: Off | K13: Weekly off
A14: =IF(B14="","",ROW()-4) -> 10 | B14: 46297 | C14: EMP010 | D14: Deepak Tomar | E14: Security | F14: Evening | G14: =IF(F14="","",IF(F14="Morning","M",IF(F14="General","G",IF(F14="Evening","E","N")))) -> E | H14: 0.58333333 | I14: 0.91666667 | J14: Absent | K14: No show

Sheet Dashboard
A1: SHIFT SCHEDULE DASHBOARD
A3: Total Entries | B3: =COUNTA('Shift Schedule'!B5:B1000) -> 10 | D3: Shift | E3: Count
A4: Scheduled | B4: =COUNTIF('Shift Schedule'!J5:J1000,"Scheduled") -> 5 | D4: Morning | E4: =COUNTIF('Shift Schedule'!F5:F1000,D4) -> 2
A5: Completed | B5: =COUNTIF('Shift Schedule'!J5:J1000,"Completed") -> 2 | D5: General | E5: =COUNTIF('Shift Schedule'!F5:F1000,D5) -> 3
A6: On Leave | B6: =COUNTIF('Shift Schedule'!J5:J1000,"Leave") -> 1 | D6: Evening | E6: =COUNTIF('Shift Schedule'!F5:F1000,D6) -> 3
A7: Absent | B7: =COUNTIF('Shift Schedule'!J5:J1000,"Absent") -> 1 | D7: Night | E7: =COUNTIF('Shift Schedule'!F5:F1000,D7) -> 2
A8: Off | B8: =COUNTIF('Shift Schedule'!J5:J1000,"Off") -> 1

Sheet Lists
A1: Shift Names | B1: Shift Codes | C1: Departments | D1: Status
A2: Morning | B2: M | C2: Administration | D2: Scheduled
A3: General | B3: G | C3: Production | D3: Completed
A4: Evening | B4: E | C4: Sales | D4: Leave
A5: Night | B5: N | C5: Support | D5: Absent
C6: Security | D6: Off
