Workbook

Sheet Grading Sheet
A1: Student Grading Excel Sheet
A2: Enter student marks; Percentage, Grade, Result and Remarks are calculated automatically.
A4: S.No. | B4: Date | C4: Student ID | D4: Student Name | E4: Class | F4: Subject | G4: Max Marks | H4: Marks Obtained | I4: Percentage | J4: Grade | K4: Result
A5: =ROW()-4 -> 1 | B5: 46266 | C5: STU001 | D5: Aarav Sharma | E5: 10-A | F5: Mathematics | G5: 100 | H5: 92 | I5: =IFERROR(H5/G5*100,0) -> 92 | J5: =IF(I5>=90,"A+",IF(I5>=80,"A",IF(I5>=70,"B",IF(I5>=60,"C",IF(I5>=50,"D","F"))))) -> A+ | K5: =IF(I5>=40,"Pass","Fail") -> Pass
A6: =ROW()-4 -> 2 | B6: 46267 | C6: STU002 | D6: Ananya Verma | E6: 10-A | F6: Mathematics | G6: 100 | H6: 84 | I6: =IFERROR(H6/G6*100,0) -> 84 | J6: =IF(I6>=90,"A+",IF(I6>=80,"A",IF(I6>=70,"B",IF(I6>=60,"C",IF(I6>=50,"D","F"))))) -> A | K6: =IF(I6>=40,"Pass","Fail") -> Pass
A7: =ROW()-4 -> 3 | B7: 46268 | C7: STU003 | D7: Rohan Gupta | E7: 10-A | F7: Mathematics | G7: 100 | H7: 76 | I7: =IFERROR(H7/G7*100,0) -> 76 | J7: =IF(I7>=90,"A+",IF(I7>=80,"A",IF(I7>=70,"B",IF(I7>=60,"C",IF(I7>=50,"D","F"))))) -> B | K7: =IF(I7>=40,"Pass","Fail") -> Pass
A8: =ROW()-4 -> 4 | B8: 46269 | C8: STU004 | D8: Priya Singh | E8: 10-A | F8: Mathematics | G8: 100 | H8: 32 | I8: =IFERROR(H8/G8*100,0) -> 32 | J8: =IF(I8>=90,"A+",IF(I8>=80,"A",IF(I8>=70,"B",IF(I8>=60,"C",IF(I8>=50,"D","F"))))) -> F | K8: =IF(I8>=40,"Pass","Fail") -> Fail
A9: =ROW()-4 -> 5 | B9: 46270 | C9: STU005 | D9: Vivek Patel | E9: 10-A | F9: Mathematics | G9: 100 | H9: 59 | I9: =IFERROR(H9/G9*100,0) -> 59 | J9: =IF(I9>=90,"A+",IF(I9>=80,"A",IF(I9>=70,"B",IF(I9>=60,"C",IF(I9>=50,"D","F"))))) -> D | K9: =IF(I9>=40,"Pass","Fail") -> Pass
A10: =ROW()-4 -> 6 | B10: 46271 | C10: STU006 | D10: Neha Jain | E10: 10-A | F10: Mathematics | G10: 100 | H10: 25 | I10: =IFERROR(H10/G10*100,0) -> 25 | J10: =IF(I10>=90,"A+",IF(I10>=80,"A",IF(I10>=70,"B",IF(I10>=60,"C",IF(I10>=50,"D","F"))))) -> F | K10: =IF(I10>=40,"Pass","Fail") -> Fail
A11: =ROW()-4 -> 7 | B11: 46272 | C11: STU007 | D11: Aditya Khan | E11: 10-A | F11: Mathematics | G11: 100 | H11: 45 | I11: =IFERROR(H11/G11*100,0) -> 45 | J11: =IF(I11>=90,"A+",IF(I11>=80,"A",IF(I11>=70,"B",IF(I11>=60,"C",IF(I11>=50,"D","F"))))) -> F | K11: =IF(I11>=40,"Pass","Fail") -> Pass
A12: =ROW()-4 -> 8 | B12: 46273 | C12: STU008 | D12: Sneha Mehta | E12: 10-A | F12: Mathematics | G12: 100 | H12: 73 | I12: =IFERROR(H12/G12*100,0) -> 73 | J12: =IF(I12>=90,"A+",IF(I12>=80,"A",IF(I12>=70,"B",IF(I12>=60,"C",IF(I12>=50,"D","F"))))) -> B | K12: =IF(I12>=40,"Pass","Fail") -> Pass
A13: =ROW()-4 -> 9 | B13: 46274 | C13: STU009 | D13: Karan Yadav | E13: 10-A | F13: Mathematics | G13: 100 | H13: 39 | I13: =IFERROR(H13/G13*100,0) -> 39 | J13: =IF(I13>=90,"A+",IF(I13>=80,"A",IF(I13>=70,"B",IF(I13>=60,"C",IF(I13>=50,"D","F"))))) -> F | K13: =IF(I13>=40,"Pass","Fail") -> Fail
A14: =ROW()-4 -> 10 | B14: 46275 | C14: STU010 | D14: Isha Tiwari | E14: 10-A | F14: Mathematics | G14: 100 | H14: 90 | I14: =IFERROR(H14/G14*100,0) -> 90 | J14: =IF(I14>=90,"A+",IF(I14>=80,"A",IF(I14>=70,"B",IF(I14>=60,"C",IF(I14>=50,"D","F"))))) -> A+ | K14: =IF(I14>=40,"Pass","Fail") -> Pass
A15: =ROW()-4 -> 11 | B15: 46276 | C15: STU011 | D15: Pramod Mahor | E15: 10-A | F15: Mathematics | G15: 100 | H15: 80 | I15: =IFERROR(H15/G15*100,0) -> 80 | J15: =IF(I15>=90,"A+",IF(I15>=80,"A",IF(I15>=70,"B",IF(I15>=60,"C",IF(I15>=50,"D","F"))))) -> A | K15: =IF(I15>=40,"Pass","Fail") -> Pass
A17: Grading Summary
A18: Total Students | B18: =COUNTA(D5:D14) -> 10
A19: Average Percentage | B19: =AVERAGE(I5:I14) -> 61.5
A20: Highest Percentage | B20: =MAX(I5:I14) -> 92
A21: Lowest Percentage | B21: =MIN(I5:I14) -> 25
A22: Passed Students | B22: =COUNTIF(K5:K14,"Pass") -> 7
A23: Failed Students | B23: =COUNTIF(K5:K14,"Fail") -> 3

Sheet Dashboard
A1: Grading Dashboard
A3: Total Students | B3: ='Grading Sheet'!B18 -> 10 | D3: Grade | E3: Count
A4: Average % | B4: ='Grading Sheet'!B19 -> 61.5 | D4: A+ | E4: =COUNTIF('Grading Sheet'!J5:J14,D4) -> 2
A5: Highest % | B5: ='Grading Sheet'!B20 -> 92 | D5: A | E5: =COUNTIF('Grading Sheet'!J5:J14,D5) -> 1
A6: Lowest % | B6: ='Grading Sheet'!B21 -> 25 | D6: B | E6: =COUNTIF('Grading Sheet'!J5:J14,D6) -> 2
A7: Passed | B7: ='Grading Sheet'!B22 -> 7 | D7: C | E7: =COUNTIF('Grading Sheet'!J5:J14,D7) -> 0
A8: Failed | B8: ='Grading Sheet'!B23 -> 3 | D8: D | E8: =COUNTIF('Grading Sheet'!J5:J14,D8) -> 1
D9: F | E9: =COUNTIF('Grading Sheet'!J5:J14,D9) -> 4
D12: Result | E12: Count
D13: Pass | E13: =COUNTIF('Grading Sheet'!K5:K14,"Pass") -> 7
D14: Fail | E14: =COUNTIF('Grading Sheet'!K5:K14,"Fail") -> 3

Sheet Lists
A1: Classes | B1: Subjects | C1: Result Options
A2: 9-A | B2: Mathematics | C2: Pass
A3: 9-B | B3: Science | C3: Fail
A4: 10-A | B4: English
A5: 10-B | B5: Social Science
A6: 11-A | B6: Computer
A7: 12-A | B7: Hindi
